BEGIN:VCALENDAR
VERSION:2.0
PRODID:Events Booking
BEGIN:VEVENT
UID:69e9d2fa01bd6
SUMMARY:DAY 2 - ZTA - FJ Hybrid Mesh Firewall and ZTA Base Tour - Dublin Ir
 eland
DESCRIPTION:
LOCATION:Ireland
DTSTART:20260422T060000Z
DTEND:20260422T235500Z
DTSTAMP:20260409T122658Z
ORGANIZER;CN=Cisco Security Workshops:MAILTO:no-reply@ciscosecurityworkshop
 .com
GEO:53.34938;-6.260559
X-APPLE-STRUCTURED-LOCATION;VALUE=URI;X-ADDRESS=Ireland;X-APPLE-RADIUS=72;X
 -TITLE=Cisco Office - Dublin:53.34938;-6.260559
END:VEVENT
END:VCALENDAR