BEGIN:VCALENDAR
VERSION:2.0
PRODID:Events Booking
BEGIN:VEVENT
UID:69e820850b42d
SUMMARY:20260128-testevent
DESCRIPTION:test event
DTSTART:20260128T160000Z
DTEND:20260128T210000Z
DTSTAMP:20260128T151259Z
ORGANIZER;CN=Cisco Security Workshops:MAILTO:no-reply@ciscosecurityworkshop
 .com
END:VEVENT
END:VCALENDAR