BEGIN:VCALENDAR
VERSION:2.0
PRODID:Events Booking
BEGIN:VEVENT
UID:69e9d48857493
SUMMARY:7/22/25 - XDR Ignite Internal Cohort
DESCRIPTION:XDR Ignite Internal Cohort training led by Jake Ruddy.
LOCATION:Virtual
DTSTART:20250722T150000Z
DTEND:20250723T030000Z
DTSTAMP:20250716T204500Z
ORGANIZER;CN=Cisco Security Workshops:MAILTO:no-reply@ciscosecurityworkshop
 .com
GEO:25;-80.226529
X-APPLE-STRUCTURED-LOCATION;VALUE=URI;X-ADDRESS=Virtual;X-APPLE-RADIUS=72;X
 -TITLE=Virtual:25;-80.226529
END:VEVENT
END:VCALENDAR