BEGIN:VCALENDAR
VERSION:2.0
PRODID:Events Booking
BEGIN:VEVENT
UID:69ea0dafd0189
SUMMARY:Adi Test
DESCRIPTION:
LOCATION:Oslo\, Norway
DTSTART:20250915T120000Z
DTEND:20250916T035500Z
DTSTAMP:20250915T124331Z
ORGANIZER;CN=Cisco Security Workshops:MAILTO:no-reply@ciscosecurityworkshop
 .com
GEO:59.972397;10.775729
X-APPLE-STRUCTURED-LOCATION;VALUE=URI;X-ADDRESS=Oslo\, Norway;X-APPLE-RADIU
 S=72;X-TITLE=Cisco Office:59.972397;10.775729
END:VEVENT
END:VCALENDAR