BEGIN:VCALENDAR
VERSION:2.0
PRODID:Events Booking
BEGIN:VEVENT
UID:69ea8044012ba
SUMMARY:AI Security Fundamentals  *On-site only*
DESCRIPTION:Be the go-to person for AI security.
 Learn how attackers targ
 et AI systems—and how to stop them.
 
 What You’ll Learn
 
 
 AI 
 Security Basics: Simple\, clear explanations of today’s biggest AI risks
 \, based on the OWASP GENAI Project.
 
 
 How AI Works: A beginner-frie
 ndly look at how modern AI apps are built\, including Agentic AI and Model
  Control Protocol (MCP).
 
 
 Attacks in Action: See how hackers trick 
 AI agents into doing things they shouldn’t.
 
 
 Defense Strategies: 
 Discover how to protect against these attacks.
 
 
 AI Defense Tools: L
 earn how Hybrid Mesh Firewall and Cisco AI Defense spot vulnerabilities ea
 rly and keep private data safe.
 
 
 
 Who Should Attend
 
 
 Secur
 ity engineers &amp\; architects
 
 
 IT leaders responsible for AI adop
 tion
 
 
 Anyone who wants to become their organization’s AI security
  champion
 
 
 
 What to Bring
 
 Laptop computer for optional Exerc
 ises
 
 
 Join this space after checking in:
 https://eurl.io/#qBbI_hW
 uv
LOCATION:1515 Mockingbird Lane Suite 400 Charlotte\, NC 28209
DTSTART:20251120T160000Z
DTEND:20251120T183000Z
DTSTAMP:20251001T200512Z
ORGANIZER;CN=Cisco Security Workshops:MAILTO:no-reply@ciscosecurityworkshop
 .com
END:VEVENT
END:VCALENDAR