BEGIN:VCALENDAR
VERSION:2.0
PRODID:Events Booking
BEGIN:VEVENT
UID:69ea81427d7f2
SUMMARY:Alef - Cisco HMF (Hungary) (2)
DESCRIPTION:
DTSTART:20260304T070000Z
DTEND:20260304T210000Z
DTSTAMP:20260303T095010Z
ORGANIZER;CN=Cisco Security Workshops:MAILTO:no-reply@ciscosecurityworkshop
 .com
END:VEVENT
END:VCALENDAR