BEGIN:VCALENDAR
VERSION:2.0
PRODID:Events Booking
BEGIN:VEVENT
UID:69ea533c013b8
SUMMARY:Alef - Cisco HMF (Hungary)
DESCRIPTION:
DTSTART:20260330T070000Z
DTEND:20260330T150000Z
DTSTAMP:20260325T092930Z
ORGANIZER;CN=Cisco Security Workshops:MAILTO:no-reply@ciscosecurityworkshop
 .com
END:VEVENT
END:VCALENDAR