BEGIN:VCALENDAR
VERSION:2.0
PRODID:Events Booking
BEGIN:VEVENT
UID:69ea80e85c4ce
SUMMARY:Alef - Cisco HMF (Hungary)
DESCRIPTION:
DTSTART:20260304T070000Z
DTEND:20260304T210000Z
DTSTAMP:20260302T204811Z
ORGANIZER;CN=Cisco Security Workshops:MAILTO:no-reply@ciscosecurityworkshop
 .com
END:VEVENT
END:VCALENDAR