BEGIN:VCALENDAR
VERSION:2.0
PRODID:Events Booking
BEGIN:VEVENT
UID:69ea530947ec2
SUMMARY:Americas Tech Elevate Q3 M2 Lab - Secure Firewall 10.0
DESCRIPTION:Experience the latest innovations in Cisco Secure Firewall 10.0
  in this lab. Discover how the Encrypted Visibility Engine (EVE) enables t
 hreat detection in encrypted traffic\, while AI-driven SnortML provides pr
 otection against signature-less attacks. Take advantage of expanded SD-WAN
  features and improved OT security with advanced access control and contai
 nment. Seamless Splunk integration delivers robust security analytics for 
 effective incident response. This lab will help you build the knowledge an
 d skills needed to highlight the strengths of Cisco Secure Firewall 10.0.
LOCATION:Virtual
DTSTART:20260324T150000Z
DTEND:20260324T220000Z
DTSTAMP:20260319T184732Z
ORGANIZER;CN=Cisco Security Workshops:MAILTO:no-reply@ciscosecurityworkshop
 .com
GEO:25;-80.226529
X-APPLE-STRUCTURED-LOCATION;VALUE=URI;X-ADDRESS=Virtual;X-APPLE-RADIUS=72;X
 -TITLE=Virtual:25;-80.226529
END:VEVENT
END:VCALENDAR