BEGIN:VCALENDAR
VERSION:2.0
PRODID:Events Booking
BEGIN:VEVENT
UID:69e85cf83e0b3
SUMMARY:ANM Secure Access Premier Workshop
DESCRIPTION:
LOCATION:1355 N Scottsdale Rd Suite 380\, Scottsdale\, AZ 85257
DTSTART:20251009T070500Z
DTEND:20251009T185500Z
DTSTAMP:20251003T132457Z
ORGANIZER;CN=Cisco Security Workshops:MAILTO:no-reply@ciscosecurityworkshop
 .com
GEO:33.463539;-111.924993
X-APPLE-STRUCTURED-LOCATION;VALUE=URI;X-ADDRESS=1355 N Scottsdale Rd Suite 
 380\, Scottsdale\, AZ 85257;X-APPLE-RADIUS=72;X-TITLE=ANM Scottsdale:33.46
 3539;-111.924993
END:VEVENT
END:VCALENDAR