BEGIN:VCALENDAR
VERSION:2.0
PRODID:Events Booking
BEGIN:VEVENT
UID:69ea5241e20a0
SUMMARY:APJC Tech Elevate Q3 M2 Lab - Secure Firewall 10.0
DESCRIPTION:Experience the latest innovations in Cisco Secure Firewall 10.0
  in this lab. Discover how the Encrypted Visibility Engine (EVE) enables t
 hreat detection in encrypted traffic\, while AI-driven SnortML provides pr
 otection against signature-less attacks. Take advantage of expanded SD-WAN
  features and improved OT security with advanced access control and contai
 nment. Seamless Splunk integration delivers robust security analytics for 
 effective incident response. This lab will help you build the knowledge an
 d skills needed to highlight the strengths of Cisco Secure Firewall 10.0.
DTSTART:20260331T023000Z
DTEND:20260331T063000Z
DTSTAMP:20260323T004735Z
ORGANIZER;CN=Cisco Security Workshops:MAILTO:no-reply@ciscosecurityworkshop
 .com
END:VEVENT
END:VCALENDAR