BEGIN:VCALENDAR
VERSION:2.0
PRODID:Events Booking
BEGIN:VEVENT
UID:69e81e883d08d
SUMMARY:Architech Secure Firewall / SD-WAN Lab
DESCRIPTION:
LOCATION:Virtual
DTSTART:20260402T090000Z
DTEND:20260402T170000Z
DTSTAMP:20260331T042950Z
ORGANIZER;CN=Cisco Security Workshops:MAILTO:no-reply@ciscosecurityworkshop
 .com
GEO:25;-80.226529
X-APPLE-STRUCTURED-LOCATION;VALUE=URI;X-ADDRESS=Virtual;X-APPLE-RADIUS=72;X
 -TITLE=Virtual:25;-80.226529
END:VEVENT
END:VCALENDAR