BEGIN:VCALENDAR
VERSION:2.0
PRODID:Events Booking
BEGIN:VEVENT
UID:69e85bfad42a9
SUMMARY:AT Disti TTT: Project Meteor
DESCRIPTION:
 The Hybrid Mesh Firewall: Project Meteor workshop is design
 ed to equip participants with the knowledge and hands-on experience needed
  to modernize firewall strategies using Cisco’s Hybrid Mesh Firewall tec
 hnology. This innovative solution unifies security across data centers\, c
 loud\, campus\, and IoT environments\, providing a highly distributed secu
 rity fabric.
 During this session\, you will step into the shoes of a fic
 tional engineer at PseudoCo and work through real-world scenarios that hig
 hlight the power and flexibility of Cisco’s security solutions.
 The wo
 rkshop will make extensive use of Cisco Security Cloud Control and cover t
 opics such as deployment\, SD-WAN configuration\, shared objects managemen
 t\, and application segmentation. This is a great opportunity to build han
 ds-on experience and deepen your understanding of modern network security 
 practices through a self-paced workshop. 
 
 Key Takeaways
 
 Clear u
 nderstanding of Cisco’s Hybrid Mesh Firewall solution and its advantages
 
 Gain hands-on experience with Cisco Security Cloud Control for centrali
 zed and extensive security management
 Understand how to configure SD-WAN
  for optimized and secure network connectivity
 Explore enhanced cloud vi
 sibility to monitor and protect distributed applications and data
 Deepen
  your knowledge of Shared Objects and their role in efficient policy manag
 ement
 Master application segmentation techniques using both endpoint age
 nts and the firewall for comprehensive security.
 
 
 Who Should Attend
 
 
 Anyone involved in firewall management\, policy enforcement\, or sec
 urity modernization initiatives
 
 
 Workshop Format
 
 Duration: 2 h
 ours 
 Structure: A multi-phase\, self-contained hands-on workshop
 Phas
 es Include:
 
 Onboarding firewalls and simplifying branch connectivity
 
 Integrating cloud policies and multi-cloud defense
 Configuring segment
 ation for workloads and applications
 Testing threat detection capabiliti
 es including encrypted traffic inspection
 
 
 Tools Used: Cisco Securi
 ty Cloud Control\, Secure Firewall\, Multi-cloud Defense and Secure Worklo
 ad
 
  SHAPE 
  
  
  
 
 
 Prerequisites
  
 
 
 Cisco accou
 nt registration (CCOID) – Click here for more information
 Cisco Securi
 ty Workshop account registration – Click here to register
 Basic unders
 tanding of firewall concepts and network security
 
 
  SHAPE 
  
  
 
  
 
  
 
 Why Attend This Workshop
 In today’s complex and rapid
 ly evolving threat landscape\, traditional firewall approaches are no long
 er sufficient. The Hybrid Mesh Firewall: Project Meteor workshop empowers 
 you to modernize your security posture by adopting a distributed firewall 
 fabric that scales with your enterprise needs. Attendees will gain practic
 al skills to reduce attack surfaces\, prevent lateral movement\, and prote
 ct critical applications across hybrid environments. This workshop offers 
 a unique opportunity to experience Cisco’s cutting-edge firewall technol
 ogy firsthand\, enabling you to lead your organization’s security transf
 ormation with confidence and agility.
LOCATION:Austria
DTSTART:20260331T080000Z
DTEND:20260331T180000Z
DTSTAMP:20260330T121319Z
ORGANIZER;CN=Cisco Security Workshops:MAILTO:no-reply@ciscosecurityworkshop
 .com
GEO:48.208354;16.372504
X-APPLE-STRUCTURED-LOCATION;VALUE=URI;X-ADDRESS=Austria;X-APPLE-RADIUS=72;X
 -TITLE=Vienna\, Austria:48.208354;16.372504
END:VEVENT
END:VCALENDAR