BEGIN:VCALENDAR
VERSION:2.0
PRODID:Events Booking
BEGIN:VEVENT
UID:69ea50c508096
SUMMARY:Atea HMF Project Meteor
DESCRIPTION:
LOCATION:Grønland\, Drammen\, 3045\, Norway
DTSTART:20260313T090000Z
DTEND:20260313T190000Z
DTSTAMP:20260312T123258Z
ORGANIZER;CN=Cisco Security Workshops:MAILTO:no-reply@ciscosecurityworkshop
 .com
GEO:59.743389;10.190951
X-APPLE-STRUCTURED-LOCATION;VALUE=URI;X-ADDRESS=Grønland\, Drammen\, 3045\
 , Norway;X-APPLE-RADIUS=72;X-TITLE=Atea Drammen:59.743389;10.190951
END:VEVENT
END:VCALENDAR