BEGIN:VCALENDAR
VERSION:2.0
PRODID:Events Booking
BEGIN:VEVENT
UID:69ed6a9fe6ccd
SUMMARY:BC Liquor Secure Private Access
DESCRIPTION:
 Course Title:Designing and Deploying Zero Trust Network Acce
 ss with Cisco Secure Access
 
 Course Description:The BC Liquor team wil
 l learn how to design\, deploy\, and validate a modern Zero Trust Access s
 olution using Cisco Secure Access to provide VPN as a Service and granular
  Zero Trust Network Access for clientless\, and client-based solutions. Ac
 ting as the administrator for the fictional organization PseudoCo\, you wi
 ll configure secure connectivity between remote users and private applicat
 ions hosted in a secure data center.
 You’ll have full administrative a
 ccess to a dedicated virtual data center environment in Cisco’s dCloud\,
  pre-provisioned for Secure Access integration. Each participant\, or two 
 person teams working together\, also receives a unique Secure Access organ
 ization\, enabling you to configure and test infrastructure running in Can
 adian cloud data centers.
 The labs will be available until midnight on F
 riday night and can be extended for engineers to complete all the labs and
  gain 6 Continuing Education credits towards renewing Cisco Certifications
 !
 
 Workshop Highlights
 
 Real-World Zero Trust Scenarios: Configur
 e secure connectivity for remote users and private applications.
 Hands-O
 n Labs: Access to a fully provisioned virtual data center and unique Secu
 re Access organization.
 End-to-End Deployment: Learn to set up VPNs\, I
 P pools\, and tunnels for seamless\, secure access.
 Expert Guidance: Ste
 p-by-step lab exercises with Darren and Indika onsite for support.
 
 

  Key Takeaways
 
 Practical experience deploying Zero Trust Access solut
 ions using Cisco Secure Access.
 Skills to configure and validate secure 
 connections between distributed users and applications.
 Understanding of
  best practices for aligning Secure Access configurations with data center
  regions.
 
 
 Who Should Attend
 
 IT and network administrators res
 ponsible for securing enterprise access.
 Security engineers and architec
 ts interested in Zero Trust methodologies.
 
 
 Workshop Format
 
 Ha
 nds-On Labs: Interactive\, guided exercises in a live dCloud virtual envi
 ronment.
 Instructor Support: Direct assistance from Darren and Indika.

  Individual Access: Each attendee receives their own Secure Access organi
 zation and isolated lab environment.
 
 
 Prerequisites
 
 Familiarit
 y with basic networking and security concepts.
 Prior experience with rem
 ote access technologies or Cisco solutions is helpful but not required.
 
 Access to a Cisco dCloud account (provided as part of the course).
 
 

  Why Attend?
 This workshop offers a unique\, practical opportunity to ma
 ster Zero Trust Access with Cisco Secure Access in a risk-free\, fully sup
 ported lab environment. The BC Liquor team will leave with the confidence 
 and know-how to implement secure and modern remote access access solutions
  with built-in user Assurance!
LOCATION:Gilmore Way\, Burnaby\, V5G 0B3 British Columbia\, Canada
DTSTART:20260426T150000Z
DTEND:20260427T060000Z
DTSTAMP:20260424T011700Z
ORGANIZER;CN=Cisco Security Workshops:MAILTO:no-reply@ciscosecurityworkshop
 .com
GEO:49.254171;-123.011341
X-APPLE-STRUCTURED-LOCATION;VALUE=URI;X-ADDRESS=Gilmore Way\, Burnaby\, V5G
  0B3 British Columbia\, Canada;X-APPLE-RADIUS=72;X-TITLE=BC Liquor:49.2541
 71;-123.011341
END:VEVENT
END:VCALENDAR