BEGIN:VCALENDAR
VERSION:2.0
PRODID:Events Booking
BEGIN:VEVENT
UID:69e9d423e6a82
SUMMARY:Breach Base Tour TTT
DESCRIPTION:Get ready to dive into an intensive\, hands-on training designe
 d to empower you with the knowledge and skills needed to set up Cisco Exte
 nded Detection and Response (XDR).
 This program aims to build your exper
 tise and confidence with configuring and deploying Cisco XDR. Once complet
 ed\, you'll be ready to drive customer opportunities and showcase the powe
 r of XDR.
LOCATION:Virtual
DTSTART:20250627T160000Z
DTEND:20250628T035500Z
DTSTAMP:20250625T160310Z
ORGANIZER;CN=Cisco Security Workshops:MAILTO:no-reply@ciscosecurityworkshop
 .com
GEO:25;-80.226529
X-APPLE-STRUCTURED-LOCATION;VALUE=URI;X-ADDRESS=Virtual;X-APPLE-RADIUS=72;X
 -TITLE=Virtual:25;-80.226529
END:VEVENT
END:VCALENDAR