BEGIN:VCALENDAR
VERSION:2.0
PRODID:Events Booking
BEGIN:VEVENT
UID:69ea0c5fa750f
SUMMARY:BTC SSE workshop
DESCRIPTION:
LOCATION:Online
DTSTART:20260316T100000Z
DTEND:20260316T200000Z
DTSTAMP:20260315T143410Z
ORGANIZER;CN=Cisco Security Workshops:MAILTO:no-reply@ciscosecurityworkshop
 .com
END:VEVENT
END:VCALENDAR