BEGIN:VCALENDAR
VERSION:2.0
PRODID:Events Booking
BEGIN:VEVENT
UID:69ea0dafa3c6a
SUMMARY:CAE Ignite
DESCRIPTION:
LOCATION:Dacorum\, HP2 7FU England\, United Kingdom
DTSTART:20251009T090000Z
DTEND:20251009T170000Z
DTSTAMP:20251001T153337Z
ORGANIZER;CN=Cisco Security Workshops:MAILTO:no-reply@ciscosecurityworkshop
 .com
END:VEVENT
END:VCALENDAR