BEGIN:VCALENDAR
VERSION:2.0
PRODID:Events Booking
BEGIN:VEVENT
UID:69ea4968821f1
SUMMARY:CAE Rapid Incident Response Workshop
DESCRIPTION:
LOCATION:Dacorum\, HP2 7FU England\, United Kingdom
DTSTART:20250708T100000Z
DTEND:20250708T150000Z
DTSTAMP:20250707T112521Z
ORGANIZER;CN=Cisco Security Workshops:MAILTO:no-reply@ciscosecurityworkshop
 .com
END:VEVENT
END:VCALENDAR