BEGIN:VCALENDAR
VERSION:2.0
PRODID:Events Booking
BEGIN:VEVENT
UID:69ea05b11afe5
SUMMARY:CDW and Cisco Immersive Overdrive
DESCRIPTION:
LOCATION:Town Center Way\, Nashville\, 37027 Tennessee\, United States
DTSTART:20260430T120000Z
DTEND:20260502T000000Z
DTSTAMP:20260422T150950Z
ORGANIZER;CN=Cisco Security Workshops:MAILTO:no-reply@ciscosecurityworkshop
 .com
GEO:36.034448;-86.78432
X-APPLE-STRUCTURED-LOCATION;VALUE=URI;X-ADDRESS=Town Center Way\, Nashville
 \, 37027 Tennessee\, United States;X-APPLE-RADIUS=72;X-TITLE=CDW Nashville
  Ofc:36.034448;-86.78432
END:VEVENT
END:VCALENDAR