BEGIN:VCALENDAR
VERSION:2.0
PRODID:Events Booking
BEGIN:VEVENT
UID:69ea0f94d3be8
SUMMARY:CDW Fast Track HMF
DESCRIPTION:
LOCATION:Pennsylvania Plaza\, New York\, 10119 New York\, United States
DTSTART:20251022T120000Z
DTEND:20251023T030000Z
DTSTAMP:20251016T223527Z
ORGANIZER;CN=Cisco Security Workshops:MAILTO:no-reply@ciscosecurityworkshop
 .com
GEO:40.751454;-73.992821
X-APPLE-STRUCTURED-LOCATION;VALUE=URI;X-ADDRESS=Pennsylvania Plaza\, New Yo
 rk\, 10119 New York\, United States;X-APPLE-RADIUS=72;X-TITLE=Cisco Office
  - NYC:40.751454;-73.992821
END:VEVENT
END:VCALENDAR