BEGIN:VCALENDAR
VERSION:2.0
PRODID:Events Booking
BEGIN:VEVENT
UID:69ea0e6fd0ba0
SUMMARY:CDW HMF Workshop Dec 10
DESCRIPTION:CDW/Cisco Security Fast Track - HMF Workshop
  
LOCATION:60018 Illinois\, United States
DTSTART:20251210T120000Z
DTEND:20251214T050000Z
DTSTAMP:20251201T060933Z
ORGANIZER;CN=Cisco Security Workshops:MAILTO:no-reply@ciscosecurityworkshop
 .com
GEO:41.994133;-87.875674
X-APPLE-STRUCTURED-LOCATION;VALUE=URI;X-ADDRESS=60018 Illinois\, United Sta
 tes;X-APPLE-RADIUS=72;X-TITLE=CDW Rosemont Office:41.994133;-87.875674
END:VEVENT
END:VCALENDAR