BEGIN:VCALENDAR
VERSION:2.0
PRODID:Events Booking
BEGIN:VEVENT
UID:69ea1107478d8
SUMMARY:CDW HMF Workshop Feb 12
DESCRIPTION:CDW/Cisco Security Fast Track - HMF Workshop - Tampa
LOCATION:N Franklin St\, Tampa\, 33602 Florida\, United States
DTSTART:20260212T100000Z
DTEND:20260215T030000Z
DTSTAMP:20260121T212744Z
ORGANIZER;CN=Cisco Security Workshops:MAILTO:no-reply@ciscosecurityworkshop
 .com
GEO:27.950381;-82.458807
X-APPLE-STRUCTURED-LOCATION;VALUE=URI;X-ADDRESS=N Franklin St\, Tampa\, 336
 02 Florida\, United States;X-APPLE-RADIUS=72;X-TITLE=CDW Tampa Office:27.9
 50381;-82.458807
END:VEVENT
END:VCALENDAR