BEGIN:VCALENDAR
VERSION:2.0
PRODID:Events Booking
BEGIN:VEVENT
UID:69ea0c5f2d9bc
SUMMARY:CDW Security Fast Track Virtual
DESCRIPTION:CDW Cisco Security Fast Track Enablement Workshop
 April 15\, 
 2026 - VIRTUAL
LOCATION:Virtual
DTSTART:20260415T100000Z
DTEND:20260417T040000Z
DTSTAMP:20260408T032128Z
ORGANIZER;CN=Cisco Security Workshops:MAILTO:no-reply@ciscosecurityworkshop
 .com
GEO:25;-80.226529
X-APPLE-STRUCTURED-LOCATION;VALUE=URI;X-ADDRESS=Virtual;X-APPLE-RADIUS=72;X
 -TITLE=Virtual:25;-80.226529
END:VEVENT
END:VCALENDAR