BEGIN:VCALENDAR
VERSION:2.0
PRODID:Events Booking
BEGIN:VEVENT
UID:69ea0e6fa082b
SUMMARY:CDW Security Fast Track
DESCRIPTION:CDW Cisco Security Fast Track Workshop - March 4\, 2026
LOCATION:East Rio Salado Parkway\, Tempe\, 85281 Arizona\, United States
DTSTART:20260304T130000Z
DTEND:20260306T070000Z
DTSTAMP:20260219T003411Z
ORGANIZER;CN=Cisco Security Workshops:MAILTO:no-reply@ciscosecurityworkshop
 .com
GEO:33.429399;-111.905371
X-APPLE-STRUCTURED-LOCATION;VALUE=URI;X-ADDRESS=East Rio Salado Parkway\, T
 empe\, 85281 Arizona\, United States;X-APPLE-RADIUS=72;X-TITLE=CDW Tempe O
 ffice:33.429399;-111.905371
END:VEVENT
END:VCALENDAR