BEGIN:VCALENDAR
VERSION:2.0
PRODID:Events Booking
BEGIN:VEVENT
UID:69e9d425e3574
SUMMARY:CDW XDR Onboarding Training
DESCRIPTION:XDR Onboarding training for CDW professional services team.
 A
 rchitecture Review\, Integrations &amp\; Telemetry
 ·       Review
  goals &amp\; outcomes of the training 
 ·       Cisco XDR archite
 cture overview
 ·       Network telemetry configuration (SNA\, ONA
  Sensor and CTB telemetry sources)
 ·       Secure Endpoint EDR in
 tegration
 ·       Secure Firewall Management Center integration 
  
 ·       Secure Client Deployment with NVM telemetry
LOCATION:Virtual
DTSTART:20250415T050000Z
DTEND:20250417T190000Z
DTSTAMP:20250411T005502Z
ORGANIZER;CN=Cisco Security Workshops:MAILTO:no-reply@ciscosecurityworkshop
 .com
GEO:25;-80.226529
X-APPLE-STRUCTURED-LOCATION;VALUE=URI;X-ADDRESS=Virtual;X-APPLE-RADIUS=72;X
 -TITLE=Virtual:25;-80.226529
END:VEVENT
END:VCALENDAR