BEGIN:VCALENDAR
VERSION:2.0
PRODID:Events Booking
BEGIN:VEVENT
UID:69e9cff897b19
SUMMARY:Cisco CTF
DESCRIPTION:
DTSTART:20260421T195500Z
DTEND:20260422T030000Z
DTSTAMP:20260421T195108Z
ORGANIZER;CN=Cisco Security Workshops:MAILTO:no-reply@ciscosecurityworkshop
 .com
END:VEVENT
END:VCALENDAR