BEGIN:VCALENDAR
VERSION:2.0
PRODID:Events Booking
BEGIN:VEVENT
UID:69e82d52632e0
SUMMARY:Cisco HMF Dry Run
DESCRIPTION:
DTSTART:20251219T090000Z
DTEND:20251219T170000Z
DTSTAMP:20251210T131750Z
ORGANIZER;CN=Cisco Security Workshops:MAILTO:no-reply@ciscosecurityworkshop
 .com
END:VEVENT
END:VCALENDAR