BEGIN:VCALENDAR
VERSION:2.0
PRODID:Events Booking
BEGIN:VEVENT
UID:69ea4a12e62a3
SUMMARY:Cisco HMF Test 11/10/25
DESCRIPTION:Testing to ensure lab work for future makeup session with partn
 ers.
LOCATION:Virtual
DTSTART:20251110T160000Z
DTEND:20251111T010000Z
DTSTAMP:20251107T203630Z
ORGANIZER;CN=Cisco Security Workshops:MAILTO:no-reply@ciscosecurityworkshop
 .com
GEO:25;-80.226529
X-APPLE-STRUCTURED-LOCATION;VALUE=URI;X-ADDRESS=Virtual;X-APPLE-RADIUS=72;X
 -TITLE=Virtual:25;-80.226529
END:VEVENT
END:VCALENDAR