BEGIN:VCALENDAR
VERSION:2.0
PRODID:Events Booking
BEGIN:VEVENT
UID:69ea47edba68c
SUMMARY:Cisco Hybrid Mesh fIrewall
DESCRIPTION:
LOCATION:Virtual
DTSTART:20260408T000000Z
DTEND:20260408T080000Z
DTSTAMP:20260408T074216Z
ORGANIZER;CN=Cisco Security Workshops:MAILTO:no-reply@ciscosecurityworkshop
 .com
GEO:25;-80.226529
X-APPLE-STRUCTURED-LOCATION;VALUE=URI;X-ADDRESS=Virtual;X-APPLE-RADIUS=72;X
 -TITLE=Virtual:25;-80.226529
END:VEVENT
END:VCALENDAR