BEGIN:VCALENDAR
VERSION:2.0
PRODID:Events Booking
BEGIN:VEVENT
UID:69ea8425abfb2
SUMMARY:Cisco Hybrid Mesh Firewall Ignite Workshop Dubai 24th Nov - Logicom
  - ReIgnite
DESCRIPTION:
 
 
  
 
 
 
 
 
 
 
 
 
 
 
 
 
 
 
 
 
 
 
 
 
 
 
 
 
 
 Cisco´s Hybrid Mesh Firewall Workshop Cisco 
 Partner Enablement - In Person - Cisco Dubai OfficeTuesday\, 24th of Novem
 ber 202510:00 - 16:00
 
 
 
 
 
 
 
 
 
 
 
 
 
 
 
 
 

  
 
 
 
 
 
 
 
 
 Join us for a comprehensive instructor-led eve
 nt designed to deliver an immersive\, hands-on experience. Dive deep into 
 the game-changing features of this cutting-edge firewall technology throug
 h practical labs.
 We do recommend all participants watch the Tech Talk s
 eries on Cisco’s Hybrid Mesh Firewall before attending. Check out either
  of the live Tech Talk deliveries or watch the recording on Salesconnect.
 
 This workshop is all about building expertise through hands-on labs and 
 technical training. You'll get practical experience configuring and deploy
 ing the FTD system end-to-end to foster confidence and technical prowess. 
 Additionally\, you'll have access to a Breach and Attack Simulation soluti
 on\, allowing you to test\, validate\, and fine-tune optimal policy config
 urations to ensure your environment is secure and running with optimal eff
 iciently. This self-contained virtual lab will provide hands on time with 
 Cisco Security Cloud Control managing firewalls in Cisco dCloud.
  Key t
 opics of this single day Virtual event include:
 • Getting Started: Set
 ting up and provisioning your environment with Cisco Security Cloud Contro
 l
 • Threat Overview: Assessing risk using Caldera for real-world insig
 hts
 • SD-WAN: Exploring Software Defined Networking for optimized perf
 ormance
 • AI Integration: Unlocking the power of AI Assistant &amp\; A
 IOps for enhanced security
 • Segmentation: Deep dive into firewall and
  workload integration for advanced network security focusing on Cisco Secu
 re Workload integrations with Cisco Secure Firewall
LOCATION:A004-024\, Al Safouh 2 Knowledge Village Dubai\, Dubai 500321 Unit
 ed Arab Emirates
DTSTART:20251124T020000Z
DTEND:20251124T195500Z
DTSTAMP:20251111T141246Z
ORGANIZER;CN=Cisco Security Workshops:MAILTO:no-reply@ciscosecurityworkshop
 .com
GEO:25.104478;55.167117
X-APPLE-STRUCTURED-LOCATION;VALUE=URI;X-ADDRESS=A004-024\, Al Safouh 2 Know
 ledge Village Dubai\, Dubai 500321 United Arab Emirates;X-APPLE-RADIUS=72;
 X-TITLE=Cisco Office - Dubai:25.104478;55.167117
END:VEVENT
END:VCALENDAR