BEGIN:VCALENDAR
VERSION:2.0
PRODID:Events Booking
BEGIN:VEVENT
UID:69e823174bc0c
SUMMARY:Cisco Hybrid Mesh Firewall Workshop
DESCRIPTION:
LOCATION:Haarlerbergpark Haarlerbergweg 17 -19 Amsterdam\, North Holland 11
 01 CH Netherlands
DTSTART:20250702T060000Z
DTEND:20250702T150000Z
DTSTAMP:20250625T115108Z
ORGANIZER;CN=Cisco Security Workshops:MAILTO:no-reply@ciscosecurityworkshop
 .com
END:VEVENT
END:VCALENDAR