BEGIN:VCALENDAR
VERSION:2.0
PRODID:Events Booking
BEGIN:VEVENT
UID:69ea4a43f2b9e
SUMMARY:Cisco End to End Segmentation (Hybrid Mesh Firewall)  Hands on Work
 shop : For Customers 
DESCRIPTION: 
  
 Cisco's Hybrid Mesh Firewall (HMF) is a security archi
 tecture designed to provide consistent protection for users\, devices\, ap
 plications\, and workloads across diverse environments (public\, private\,
  and hybrid clouds).  Cisco’s HMF goes beyond traditional protection by
  defending against application-layer threats and securing the lifecycle of
  AI models\, helping organizations reduce risk and maintain security acros
 s all infrastructure and environments.
 What to Expect:
 
 
 Overview 
 Presentation: Learn how to adopt End to End segmentation inside your Net
 work ( Campus\, DC\, Cloud ) leveraging Cisco Hybrid Mesh Firewall capabi
 lities
 
 
 Hands on Lab: Learn the segmentation journey by having han
 ds on exposure to the platform
 
 
 Who Should Attend:
 
 IT &amp\; S
 ecurity Leaders
 
 Network &amp\; Infrastructure Teams
 
 
 Cyber Se
 curity Teams
 
 
 Why Attend?
 
 
 Cisco Security Cloud Control ( Un
 ified Management Platform for Hybrid Mesh Platform )  has been IRAP on 1
 8th December 2025
 
 
 Gain insights into best practices for segmentati
 on
 
 Identify opportunities for operational improvement and cost saving
 s
 Develop a roadmap for improved security and visibility across your org
 anization
 
LOCATION:Bunda Street\, Canberra\, 2601 Australian Capital Territory\, Aust
 ralia
DTSTART:20260505T000000Z
DTEND:20260505T030000Z
DTSTAMP:20260219T002005Z
ORGANIZER;CN=Cisco Security Workshops:MAILTO:no-reply@ciscosecurityworkshop
 .com
GEO:-35.280855;149.133901
X-APPLE-STRUCTURED-LOCATION;VALUE=URI;X-ADDRESS=Bunda Street\, Canberra\, 2
 601 Australian Capital Territory\, Australia;X-APPLE-RADIUS=72;X-TITLE=Cis
 co Canberra:-35.280855;149.133901
END:VEVENT
END:VCALENDAR