BEGIN:VCALENDAR
VERSION:2.0
PRODID:Events Booking
BEGIN:VEVENT
UID:69ea128d8a245
SUMMARY:Cisco Learn & Play for Public (RIR)
DESCRIPTION:Sehr geehrte Damen und Herren\,
  
 gerne laden wir Sie zu u
 nserem exklusiven Event in Berlin ein\, \, bei dem Sie die Gelegenheit hab
 en\, Cisco XDR – unsere innovative Sicherheitslösung – aus erster Han
 d zu erleben.
   
 Anstatt einer traditionellen Präsentation bieten w
 ir Ihnen die Möglichkeit\, unsere Sicherheitslösungen direkt in Aktion z
 u erleben. Nehmen Sie an unserem spannenden Capture the Flag (CTF) Event t
 eil! 
   
 Was ist CTF? Es handelt sich um ein interaktives und spiel
 erisches Konzept\, das Ihnen ermöglicht\, unsere Produkte durch verschied
 ene Missionen hautnah zu erleben und selbst auszuprobieren. 
   
 Sei
 en Sie dabei und entdecken Sie die Zukunft der Netzwerksicherheit auf eine
  völlig neue\, unterhaltsame Weise! Wir freuen uns auf Ihre Teilnahme. 
 
  
 Wann: 04.06.2025 
 Wo: Cisco Office Berlin 
  
 Agenda:  

  13:30 Uhr – 14:30 Uhr: Technische Vorstellung 
 14:30 Uhr – 15:00 U
 hr: Pause 
 15:00 Uhr – 17:30 Uhr: Lasset die Spiele beginnen!!  
 
 16:00 Uhr – 17:00 Uhr: Pizza und Drinks  
  
 Anforderungen:  
 
 
 Laptop mit Internetzugang (WLAN steht bei uns zur Verfügung) 
 Insta
 llierter Chrome Browser  
 Ein Cisco ID Account\, einfach hier registri
 eren 
 
  
 Bei Interesse können sie sich gerne unter folgendem Link
  oder über den QR-Code zum Event registrieren!
LOCATION:Kurfürstendamm\, Berlin\, 10719\, Germany
DTSTART:20250604T130000Z
DTSTAMP:20250512T073153Z
ORGANIZER;CN=Cisco Security Workshops:MAILTO:no-reply@ciscosecurityworkshop
 .com
GEO:52.511016;13.326954
X-APPLE-STRUCTURED-LOCATION;VALUE=URI;X-ADDRESS=Kurfürstendamm\, Berlin\, 
 10719\, Germany;X-APPLE-RADIUS=72;X-TITLE=Cisco Office Berlin:52.511016;13
 .326954
END:VEVENT
END:VCALENDAR