BEGIN:VCALENDAR
VERSION:2.0
PRODID:Events Booking
BEGIN:VEVENT
UID:69ea494da3ae4
SUMMARY:Cisco RIR Workshop 1plus1
DESCRIPTION:Rapid Incident Response Test Drive 
LOCATION:Virtual
DTSTART:20250320T000000Z
DTEND:20250320T080000Z
DTSTAMP:20250318T182240Z
ORGANIZER;CN=Cisco Security Workshops:MAILTO:no-reply@ciscosecurityworkshop
 .com
GEO:25;-80.226529
X-APPLE-STRUCTURED-LOCATION;VALUE=URI;X-ADDRESS=Virtual;X-APPLE-RADIUS=72;X
 -TITLE=Virtual:25;-80.226529
END:VEVENT
END:VCALENDAR