BEGIN:VCALENDAR
VERSION:2.0
PRODID:Events Booking
BEGIN:VEVENT
UID:69e9d7ecdf96f
SUMMARY:Cisco Secure Access (SSE) Experience Workshop for Customers
DESCRIPTION:
 
 
 
 
 
 
 Cisco Secure Access is a converged cloud S
 ecurity Service Edge (SSE) solution that is better for users\, easier for 
 IT\, and safer for everyone. It enforces modern cybersecurity while provid
 ing a seamless and frictionless experience as users connect from anything 
 to anywhere\, via a common access approach.
 
 Cisco Secure Access simpl
 ifies IT and InfoSec operations through a single\, cloud-managed console\,
  unified client\, centralized policy creation\, and aggregated reporting. 
 Cisco Secure Access extensive security capabilities include:
 
 
 Clien
 tless Zero Trust Network Access (ZTNA)Client Zero Trust Network Access (ZT
 NA)VPN as a Service (VPNaaS)Digital Experience Monitoring (DEM)Firewall as
  a Service (FWaaS)Intrusion Prevention System (IPS)Domain Name System (DNS
 ) SecuritySecure Web Gateway (SWG)Multimode Malware ProtectionCloud Access
  Security Broker (CASB)Data Loss Prevention (DLP)\, AI AccessRemote Browse
 r Isolation (RBI)
 
 The emphasis on this lab is walking through a numbe
 r of scenarios to experience what an end user would in an environment with
  Cisco Secure Access implemented. Note\, there is only read-only access 
 in the Secure Access console.
 Key Takeaways
 
 Gain firsthand experien
 ce with Cisco Secure Access features and capabilities\, such as Zero Trust
  Network Access (ZTNA)\, Secure Web Gateway (SWG)\, and Firewall as a Serv
 ice (FWaaS).
 Understand how Cisco Secure Access delivers a seamless and 
 secure user experience while simplifying IT and InfoSec operations.
 Lear
 n how to navigate a unified\, cloud-managed console for centralized policy
  creation\, aggregated reporting\, and a unified client experience.
 See 
 how advanced security features like Data Loss Prevention (DLP)\, Cloud Acc
 ess Security Broker (CASB)\, and Remote Browser Isolation (RBI) can protec
 t your organization’s critical assets.
 Discover how to assess digital 
 experience performance with integrated Digital Experience Monitoring (DEM)
 .
 
 
 What to Expect
 
 A hands-on walkthrough of real-world scenari
 os to experience how Cisco Secure Access operates from an end-user perspec
 tive.
 An introduction to the Secure Access console (read-only access) to
  explore its functionalities and understand its role in simplifying IT ope
 rations.
 Insights into how Cisco Secure Access integrates with your exis
 ting IT infrastructure to enforce modern cybersecurity practices.
 Practi
 cal demonstrations of the platform’s capabilities\, including Zero Trust
  principles\, advanced malware protection\, and secure access management.
 
 
 
 Who Should Attend
 
 IT Security Professionals: Looking to enhan
 ce their organization’s security posture with a unified Security Service
  Edge (SSE) solution.
 IT Administrators: Interested in simplifying opera
 tions through centralized policy management and a cloud-managed console.

  CISOs and Security Leaders: Evaluating modern security solutions to meet 
 the demands of hybrid work environments.
 Network Engineers: Seeking to u
 nderstand how Cisco Secure Access integrates with existing network archite
 ctures.
 Compliance Officers: Focused on data loss prevention\, policy en
 forcement\, and regulatory compliance.
 
 
 Workshop Format
 
 Durati
 on: 2-3 hours (flexible based on the audience needs).
 Interactive Scenar
 ios: Participants will walk through guided scenarios to experience Cisco S
 ecure Access in action.
 Hands-On Exploration: Engage with the Secure Acc
 ess console (read-only) to understand the platform’s interface and key f
 unctionalities.
 Q&amp\;A Session: Time allocated for participants to ask
  technical questions and receive expert guidance.
 
 
 Why Attend
 
 
 Future-Proof Your Security Strategy: Learn how Cisco Secure Access address
 es modern security challenges\, including securing hybrid work environment
 s and protecting against sophisticated threats.
 Simplify IT Operations: 
 See how a unified console and centralized policy creation can reduce compl
 exity and improve efficiency for your IT team.
 Enhance User Experience: 
 Discover how Cisco Secure Access provides a seamless and frictionless expe
 rience for end users\, enabling productivity without compromising security
 .
 Real-World Scenarios: Gain practical insights into how Secure Access o
 perates in real-world scenarios\, giving you the confidence to implement a
 nd manage the solution.
 Expert Insights: Get guidance from Cisco experts
  who will walk you through the platform’s features and answer your speci
 fic questions.
 
 
 This workshop is an excellent opportunity to experi
 ence the power and simplicity of Cisco Secure Access firsthand and underst
 and how it can help your organization enforce modern cybersecurity while e
 nhancing productivity and efficiency. Sign up now to secure your spot!
 
 
 
 
 
 
 
LOCATION:Bunda Street\, Canberra\, 2601 Australian Capital Territory\, Aust
 ralia
DTSTART:20260507T000000Z
DTEND:20260507T030000Z
DTSTAMP:20260223T094444Z
ORGANIZER;CN=Cisco Security Workshops:MAILTO:no-reply@ciscosecurityworkshop
 .com
GEO:-35.280855;149.133901
X-APPLE-STRUCTURED-LOCATION;VALUE=URI;X-ADDRESS=Bunda Street\, Canberra\, 2
 601 Australian Capital Territory\, Australia;X-APPLE-RADIUS=72;X-TITLE=Cis
 co Canberra:-35.280855;149.133901
END:VEVENT
END:VCALENDAR