BEGIN:VCALENDAR
VERSION:2.0
PRODID:Events Booking
BEGIN:VEVENT
UID:69ea0fb4976e9
SUMMARY:Cisco Secure Access Workshop Aug 21st 
DESCRIPTION: 
 As network security continues to advance toward a modern\,
  dynamic architecture\, the imperative to protect an increasing number of 
 users\, devices\, applications\, and data has become more critical than ev
 er. Organizations require a secure and seamless means of connecting users 
 to essential resources — including websites\, SaaS\, and private applica
 tions — regardless of their location.
 We invite you to attend the Cisc
 o Secure Access Workshop\, where you will have the opportunity to explore 
 our innovative Security Service Edge (SSE) platform\, designed with a dist
 inctive and forward-looking architecture. During this session\, you will e
 ngage directly with Cisco security specialists and gain insight into how C
 isco Secure Access enhances user experience\, simplifies IT operations\, a
 nd strengthens organizational security.
 This workshop will provide you w
 ith hands-on experience in the following areas:
 
 Advanced SSE capabili
 ties\, including:
 
 VPN as a Service
 Zero Trust Network Access (ZTNA)
  for private applications
 Content control and filtering
 Visibility and
  management of generative AI usage
 Data Loss Prevention (DLP)
 Remote B
 rowser Isolation (RBI)
 …and additional features
 
 Strategies for ta
 iloring Cisco Secure Access to address the specific challenges faced by yo
 ur organization\, enabling greater control\, an improved user experience\,
  and streamlined IT administration.
 
 We look forward to your participa
 tion in this informative and practical session.
  
 Agenda:
 
 10:00 
 - 10:30am: Registration
 10:30 am – 12:00 pm :  Workshop
 12:00 - 1:0
 0 pm: Working lunch
 1:00pm - 3:00pm: Workshop continued
 
  
 August
  21st \, 2025 – Richardson\, TX
               Cisco Richardson
  : 2300 E President George Bush Hwy Bldg. 6\, Richardson\, TX 75082
  
LOCATION:2300 President George Bush Highway\, Richardson\, 75082 Texas\, Un
 ited States
DTSTART:20250821T150000Z
DTEND:20250821T220000Z
DTSTAMP:20250806T185258Z
ORGANIZER;CN=Cisco Security Workshops:MAILTO:no-reply@ciscosecurityworkshop
 .com
GEO:32.999775;-96.680416
X-APPLE-STRUCTURED-LOCATION;VALUE=URI;X-ADDRESS=2300 President George Bush 
 Highway\, Richardson\, 75082 Texas\, United States;X-APPLE-RADIUS=72;X-TIT
 LE=Cisco Office Richardson:32.999775;-96.680416
END:VEVENT
END:VCALENDAR