BEGIN:VCALENDAR
VERSION:2.0
PRODID:Events Booking
BEGIN:VEVENT
UID:69ea11ea030eb
SUMMARY:Cisco Secure Access Workshop for Hudson Advisors
DESCRIPTION:As network security continues to advance toward a modern\, dyna
 mic architecture\, the imperative to protect an increasing number of users
 \, devices\, applications\, and data has become more critical than ever. O
 rganizations require a secure and seamless means of connecting users to es
 sential resources — including websites\, SaaS\, and private applications
  — regardless of their location.
 We invite you to attend the Cisco Se
 cure Access Workshop\, where you will have the opportunity to explore our 
 innovative Security Service Edge (SSE) platform\, designed with a distinct
 ive and forward-looking architecture. During this session\, you will engag
 e directly with Cisco security specialists and gain insight into how Cisco
  Secure Access enhances user experience\, simplifies IT operations\, and s
 trengthens organizational security.
 This workshop will provide you with 
 hands-on experience in the following areas:
 
 Advanced SSE capabilities
 \, including:
 
 VPN as a Service
 Zero Trust Network Access (ZTNA) for
  private applications
 Content control and filtering
 Visibility and man
 agement of generative AI usage
 Data Loss Prevention (DLP)
 Remote Brows
 er Isolation (RBI)
 …and additional features
 
 Strategies for tailor
 ing Cisco Secure Access to address the specific challenges faced by your o
 rganization\, enabling greater control\, an improved user experience\, and
  streamlined IT administration.
 
 We look forward to your participation
  in this informative and practical session.
DTSTART:20260115T100000Z
DTEND:20260115T230000Z
DTSTAMP:20251223T145305Z
ORGANIZER;CN=Cisco Security Workshops:MAILTO:no-reply@ciscosecurityworkshop
 .com
END:VEVENT
END:VCALENDAR