BEGIN:VCALENDAR
VERSION:2.0
PRODID:Events Booking
BEGIN:VEVENT
UID:69ea4948a432c
SUMMARY:Cisco Secure Access Workshop for USRC
DESCRIPTION:
  
 Join us for an immersive\, hands-on workshop designed t
 o equip you with the knowledge and skills needed to effectively implement 
 and manage Cisco Secure Access—Cisco’s converged Cloud Security Serv
 ice Edge (SSE) solution.
 What You’ll Learn:This comprehensive session
  begins with a deep dive into the evolution of remote access technologies\
 , including VPN\, SSE\, and an introduction to the core principles of Zer
 o Trust Network Access (ZTNA). Participants will then explore Cisco Secure
  Access in depth\, focusing on:
 
 
 Configuring and managing Secure Ac
 cess environments
 
 
 Implementing secure internet and private access
 
 
 
 Defining and enforcing user access policies
 
 
 Applying user 
 posturing strategies for enhanced security
 
 
 Workshop Benefits:By th
 e end of the session\, you’ll gain practical\, real-world experience and
  the confidence to deploy and operate Cisco Secure Access effectively with
 in your organization.
LOCATION:Virtual
DTSTART:20260313T150000Z
DTEND:20260312T040000Z
DTSTAMP:20260303T164256Z
ORGANIZER;CN=Cisco Security Workshops:MAILTO:no-reply@ciscosecurityworkshop
 .com
GEO:25;-80.226529
X-APPLE-STRUCTURED-LOCATION;VALUE=URI;X-ADDRESS=Virtual;X-APPLE-RADIUS=72;X
 -TITLE=Virtual:25;-80.226529
END:VEVENT
END:VCALENDAR