BEGIN:VCALENDAR
VERSION:2.0
PRODID:Events Booking
BEGIN:VEVENT
UID:69ea496bcdfb0
SUMMARY:Cisco Secure Access: Zero Trust Access Lab - Bynet
DESCRIPTION:
LOCATION:Menachem Begin\, Tel Aviv\, 6492903 Tel-Aviv District\, Israel
DTSTART:20251224T083000Z
DTEND:20251224T210000Z
DTSTAMP:20251224T064857Z
ORGANIZER;CN=Cisco Security Workshops:MAILTO:no-reply@ciscosecurityworkshop
 .com
GEO:32.077345;34.793325
X-APPLE-STRUCTURED-LOCATION;VALUE=URI;X-ADDRESS=Menachem Begin\, Tel Aviv\,
  6492903 Tel-Aviv District\, Israel;X-APPLE-RADIUS=72;X-TITLE=Cisco Office
  Tel-Aviv:32.077345;34.793325
END:VEVENT
END:VCALENDAR