BEGIN:VCALENDAR
VERSION:2.0
PRODID:Events Booking
BEGIN:VEVENT
UID:69ea498142ef2
SUMMARY:Cisco Secure Access: Zero Trust Access Lab v1 - CYBERcom
DESCRIPTION:
LOCATION:Hamelacha Street 32 Netanya 
DTSTART:20251218T070000Z
DTEND:20251218T200000Z
DTSTAMP:20251216T121757Z
ORGANIZER;CN=Cisco Security Workshops:MAILTO:no-reply@ciscosecurityworkshop
 .com
END:VEVENT
END:VCALENDAR