BEGIN:VCALENDAR
VERSION:2.0
PRODID:Events Booking
BEGIN:VEVENT
UID:69ea807e86845
SUMMARY:Cisco Secure Firewall Test Drive - Partners
DESCRIPTION:
LOCATION:Hamelacha Street 32 Netanya 
DTSTART:20260114T070000Z
DTEND:20260114T150000Z
DTSTAMP:20251221T053219Z
ORGANIZER;CN=Cisco Security Workshops:MAILTO:no-reply@ciscosecurityworkshop
 .com
END:VEVENT
END:VCALENDAR