BEGIN:VCALENDAR
VERSION:2.0
PRODID:Events Booking
BEGIN:VEVENT
UID:69ea48eee24bb
SUMMARY:Cisco Securit Firewall Test Drive - Datatech
DESCRIPTION:
LOCATION:Hamelacha Street 32 Netanya 
DTSTART:20251208T070000Z
DTEND:20251208T200000Z
DTSTAMP:20251120T154451Z
ORGANIZER;CN=Cisco Security Workshops:MAILTO:no-reply@ciscosecurityworkshop
 .com
END:VEVENT
END:VCALENDAR