BEGIN:VCALENDAR
VERSION:2.0
PRODID:Events Booking
BEGIN:VEVENT
UID:69e7e94c3d8a2
SUMMARY:Cisco Security Firewall Workshop
DESCRIPTION:This is the firewall ignite session
LOCATION:7100-8 Kit Creek Road PO Box 14987 Research Triangle Park\, North 
 Carolina 27709-4987 United States
DTSTART:20250423T000000Z
DTEND:20250430T000000Z
DTSTAMP:20250424T140437Z
ORGANIZER;CN=Cisco Security Workshops:MAILTO:no-reply@ciscosecurityworkshop
 .com
END:VEVENT
END:VCALENDAR