BEGIN:VCALENDAR
VERSION:2.0
PRODID:Events Booking
BEGIN:VEVENT
UID:69e9711b5976c
SUMMARY:Cisco Security | Hybrid Mesh Firewall Test Drive | Hamburg
DESCRIPTION:Inhaltlicher Fokus:
 · Architekturverständnis: Lernen Sie\, 
 wie die Konzepte und Integration der Firewall in hybride und Multi-Cloud-U
 mgebungen Ihre Sicherheitsstrategien stärken können.
 · Best Practices
 : Erfahren Sie\, wie konsistente Sicherheitsrichtlinien und Designmuster d
 en Schutz Ihrer Systeme verbessern.
 · Technische Herausforderungen: Ent
 decken Sie Lösungen für Policy-Propagation\, Automatisierung und Orchest
 rierung zur Erhöhung Ihrer Sichtbarkeit und Kontrolle.
 · Erweiterte Fu
 nktionen: Nutzen Sie Cloud-Management und Policy-Discovery zur Automatisie
 rung und Optimierung Ihrer Sicherheitsprozesse.
 · Zukunftssicherheit: S
 chützen Sie Ihre KI-Infrastrukturen und verteidigen Sie sich gegen neue B
 edrohungen mit skalierbaren Integrationen.
 Details der Veranstaltung:
 
 · Datum: 22. Januar 2026
 · Ort: Derbe Flott\, Hamburg
 Agenda:
 · 0
 9:00 - 13:00: Präsentationen und Hands-On Labs
 · 13:00 - 14:00: Mittag
 essen (optional)
 · 14:00 - 16:00: Go-Kart Rennen (optional)
 Neben dem
  fachlichen Austausch erwartet Sie auch ein besonderes Highlight: ein span
 nendes Sim-Rennen und ein gemeinsames Mittagessen\, das Ihnen die Gelegenh
 eit bietet\, sich in entspannter Atmosphäre mit anderen Teilnehmern zu ve
 rnetzen und auszutauschen. Die Teilnahme an diesen Aktivitäten ist selbst
 verständlich freiwillig.
LOCATION:Paul-Dessau-Straße\, Hamburg\, 22761\, Germany
DTSTART:20260122T060000Z
DTEND:20260122T220000Z
DTSTAMP:20260115T085023Z
ORGANIZER;CN=Cisco Security Workshops:MAILTO:no-reply@ciscosecurityworkshop
 .com
GEO:53.562915;9.916735
X-APPLE-STRUCTURED-LOCATION;VALUE=URI;X-ADDRESS=Paul-Dessau-Straße\, Hambu
 rg\, 22761\, Germany;X-APPLE-RADIUS=72;X-TITLE=Derbe Flott Hamburg:53.5629
 15;9.916735
END:VEVENT
END:VCALENDAR