BEGIN:VCALENDAR
VERSION:2.0
PRODID:Events Booking
BEGIN:VEVENT
UID:69ea14f1ef97e
SUMMARY:Cisco Security Probefahrten – Technik zum Anfassen 
DESCRIPTION:
 Rapid Incident Response (RIR) mit Cisco XDR Workshop 
 
 
 
  
 
 
 In der heutigen digitalen Welt stehen Unternehmen vor der He
 rausforderung\, effizientere und reaktionsfähigere Lösungen zur Bedrohun
 gserkennung\, Untersuchung und Abwendung zu finden. Ausgeklügelte Angriff
 e\, oft unterstützt durch künstliche Intelligenz (KI)\, eröffnen neue A
 ngriffsvektoren und erfordern innovative Sicherheitsstrategien. 
 
 
 
   
 
 
 Zeigen Sie den Angreifern die kalte Schulter! 
 
 
   
 
 
 
 Die Cisco Breach Protection Suite bietet ein umfassendes Threat De
 tection\, Investigation\, und Response (TDIR) System\, das mit dem Cisco-P
 ortfolio und ausgewählten Drittanbieter-Tools integriert und interagiert.
  Mit dieser Suite erleben sie die Wirksamkeit\, Wirtschaftlichkeit und Erf
 ahrung\, einer marktführenden TDIR-Umgebung\, gegen komplexe Angriffe. Du
 rch den Einsatz fortschrittlicher Technologien wie KI wird die Genauigkeit
  erhöht\, Fehler werden reduziert und Konsistenz in den SOC-Prozessen sic
 hergestellt. 
 
 
   
 
 
 Rapid Incident Response mit Cisco XDR:
  
 
 
  
 
 
 Erleben Sie ein spannendes Cyber-Abenteuer\, bei dem
  Sie schwer erkennbaren Angreifern mit komplexen Angriffen auf die Spur ko
 mmen. Nehmen Sie die Mission an\, um zu erfahren\, wie die Cisco Breach Pr
 otection Suite genutzt werden kann\, um Sicherheitsvorfälle schnell zu er
 kennen\, zu priorisieren und darauf zu reagieren. Der Workshop zeigt\, wie
  KI-unterstützte und automatisierte Fähigkeiten die Sicherheitsoperation
 en optimieren und die Effizienz der Security Operations Center (SOC)-Teams
  steigern. Optimierte Arbeitsabläufe\, entwickelt von SOC-Analysten\, erm
 öglichen eine schnelle und effektive Reaktion auf Vorfälle\, sodass Ihr 
 Team Bedrohungen mit Zuversicht begegnen kann. 
 
 
  
 
 
 Bei di
 eser eintägigen Veranstaltung im Cisco Büro Ihrer Nähe entdecken Sie - 
 begleitet vom Cisco Security Team – erleben Sie die Bedeutung von Rapid 
 Incident Response. 
 
 
  
 
 
 Auftanken und Aufladen: All diese 
 Arbeit macht garantiert Appetit! Besuchen Sie uns zum Mittagessen\, um die
  Netzwerkmöglichkeiten innerhalb der Cybersicherheits-Community zu nutzen
  und wertvolle Verbindungen zu pflegen. 
 
 
  
 
 
 Egal\, ob Sie
  ein erfahrener Cyber-Profi oder ein Anfänger sind\, dieser Workshop gara
 ntiert eine Mischung aus Bildung\, Spannung und ansprechenden Inhalt. Ergr
 eifen Sie die Chance\, verbessern Sie Ihre Fähigkeiten und lassen Sie kei
 ne Bedrohung unentdeckt. Sichern Sie sich jetzt Ihren Platz und gehen Sie 
 mit einem klaren Plan\, den Sie zu Ihrer Organisation zurückbringen könn
 en. 
 
 
  
 
 
 Die Anzahl der Teilnehmer ist begrenzt. Reservier
 en Sie Ihren Platz gerne schon heute. 
 
 
  
 
 
 Vielen Dank\,
   
 
 
 Ihr Cisco Security Team 
 
 
   
 
 
 *Diese Probef
 ahrt ist ideal für Sicherheitsanalysten aller Erfahrungsstufen\, einschli
 eßlich Sicherheitspersonal\, Incident-Responder und Bedrohungsjäger. Erl
 eben Sie Lösungen\, die von SecOps-Profis für SecOps-Profis entwickelt w
 urden! 
 
LOCATION:Ludwig-Erhard-Straße 3\, 65760 Eschborn
DTSTART:20250605T070000Z
DTEND:20250605T210000Z
DTSTAMP:20250204T115553Z
ORGANIZER;CN=Cisco Security Workshops:MAILTO:no-reply@ciscosecurityworkshop
 .com
GEO:50.146687;8.55274
X-APPLE-STRUCTURED-LOCATION;VALUE=URI;X-ADDRESS=Ludwig-Erhard-Straße 3\, 6
 5760 Eschborn;X-APPLE-RADIUS=72;X-TITLE=Cisco Office Frankfurt:50.146687;8
 .55274
END:VEVENT
END:VCALENDAR