BEGIN:VCALENDAR
VERSION:2.0
PRODID:Events Booking
BEGIN:VEVENT
UID:69e81eff8bcda
SUMMARY:Cisco Workshop
DESCRIPTION:
DTSTART:20251022T000500Z
DTEND:20251022T235500Z
DTSTAMP:20251023T155912Z
ORGANIZER;CN=Cisco Security Workshops:MAILTO:no-reply@ciscosecurityworkshop
 .com
END:VEVENT
END:VCALENDAR