BEGIN:VCALENDAR
VERSION:2.0
PRODID:Events Booking
BEGIN:VEVENT
UID:69ea10501139f
SUMMARY:Cisco XDR Alex
DESCRIPTION:
LOCATION:4-8 Nicolae Titulescu
DTSTART:20251017T080000Z
DTEND:20251017T130000Z
DTSTAMP:20251016T090430Z
ORGANIZER;CN=Cisco Security Workshops:MAILTO:no-reply@ciscosecurityworkshop
 .com
GEO:44.452582;26.0821
X-APPLE-STRUCTURED-LOCATION;VALUE=URI;X-ADDRESS=4-8 Nicolae Titulescu;X-APP
 LE-RADIUS=72;X-TITLE=BCR Bucharest:44.452582;26.0821
END:VEVENT
END:VCALENDAR