BEGIN:VCALENDAR
VERSION:2.0
PRODID:Events Booking
BEGIN:VEVENT
UID:69ea4a13e20a1
SUMMARY:Cisco XDR Rapid Incident Response Workshop\, Cairo\, Egypt
DESCRIPTION:Ever dreamt of going on a thrilling cyber adventure\, tracking 
 elusive adversaries in the digital shadows? Your mission\, should you choo
 se to accept\, is to join us for an exhilarating Rapid Incident Response W
 orkshop. Here’s why you won't want to miss out: 
 🎯 Mission Briefin
 g: Kick off your adventure with a hands-on lab designed to enhance your in
 vestigation and threat hunting expertise. 
 🌐 Defend against sophistic
 ated APTs with Cisco XDR: Learn how to empower your teams to go from endle
 ss investigation to remediating the highest priority incidents with greate
 r speed\, efficiency\, and confidence. We will explore how to: 
 ·   
     Identify patterns and correlations in threat activity with root cau
 se and attack chain analysis 
 ·       Leverage machine learning t
 o prioritize incidents based on risk and impact 
 ·       Elevate 
 productivity with automation and guidance 
 🍽 Refuel and Recharge: All
  that work sure works up an appetite! Join us for lunch to seize networkin
 g opportunities within the cybersecurity community and cultivate valuable 
 connections. Sponsored by Cisco Security – Experience solutions built fo
 r SecOps pros by SecOps pros! 
          Prerequisites: 
 ·  
     This session is ideal for security analysts of all experience level
 s\, includingsecurity operations staff\, incident responders and threat hu
 nters
 ·      This is a hands-on technical event so please bring yo
 ur laptops! 
LOCATION:Cairo\, Cairo\, Egypt
DTSTART:20250226T110000Z
DTEND:20250226T190000Z
DTSTAMP:20250223T134455Z
ORGANIZER;CN=Cisco Security Workshops:MAILTO:no-reply@ciscosecurityworkshop
 .com
GEO:29.982327;31.286634
X-APPLE-STRUCTURED-LOCATION;VALUE=URI;X-ADDRESS=Cairo\, Cairo\, Egypt;X-APP
 LE-RADIUS=72;X-TITLE=Cairo\, Egypt:29.982327;31.286634
END:VEVENT
END:VCALENDAR