BEGIN:VCALENDAR
VERSION:2.0
PRODID:Events Booking
BEGIN:VEVENT
UID:69ea14f0ebf1a
SUMMARY:Cisco's Hybrid Mesh Firewall - Virtual October 29 2025
DESCRIPTION:
LOCATION:Virtual
DTSTART:20251029T050000Z
DTEND:20251030T030000Z
DTSTAMP:20251028T143703Z
ORGANIZER;CN=Cisco Security Workshops:MAILTO:no-reply@ciscosecurityworkshop
 .com
GEO:25;-80.226529
X-APPLE-STRUCTURED-LOCATION;VALUE=URI;X-ADDRESS=Virtual;X-APPLE-RADIUS=72;X
 -TITLE=Virtual:25;-80.226529
END:VEVENT
END:VCALENDAR